Package: MEAL Version: 1.34.0 Command: /Library/Frameworks/R.framework/Resources/bin/R CMD build --keep-empty-dirs --no-resave-data MEAL StartedAt: 2024-06-09 17:10:08 -0400 (Sun, 09 Jun 2024) EndedAt: 2024-06-09 17:15:59 -0400 (Sun, 09 Jun 2024) EllapsedTime: 351.3 seconds RetCode: 0 Status: OK PackageFile: MEAL_1.34.0.tar.gz PackageFileSize: 2.067 MiB