Package: MOGAMUN Version: 1.14.0 Command: /Library/Frameworks/R.framework/Resources/bin/R CMD INSTALL MOGAMUN StartedAt: 2024-10-16 16:13:08 -0400 (Wed, 16 Oct 2024) EndedAt: 2024-10-16 16:13:24 -0400 (Wed, 16 Oct 2024) EllapsedTime: 16.3 seconds RetCode: 0 Status: OK