Package: RcisTarget Version: 1.24.0 Command: /Library/Frameworks/R.framework/Resources/bin/R CMD build --keep-empty-dirs --no-resave-data RcisTarget StartedAt: 2024-06-09 17:51:38 -0400 (Sun, 09 Jun 2024) EndedAt: 2024-06-09 17:51:50 -0400 (Sun, 09 Jun 2024) EllapsedTime: 12.5 seconds RetCode: 1 Status: ERROR PackageFile: None PackageFileSize: NA