Package: S4Arrays Version: 1.4.1 Command: /home/biocbuild/bbs-3.19-bioc/R/bin/R CMD build --keep-empty-dirs --no-resave-data S4Arrays StartedAt: 2024-10-16 20:35:36 -0400 (Wed, 16 Oct 2024) EndedAt: 2024-10-16 20:35:55 -0400 (Wed, 16 Oct 2024) EllapsedTime: 19.1 seconds RetCode: 0 Status: OK PackageFile: S4Arrays_1.4.1.tar.gz PackageFileSize: 275.8 KiB