Package: SIM Version: 1.74.0 Command: /Library/Frameworks/R.framework/Resources/bin/R CMD INSTALL SIM StartedAt: 2024-10-16 16:24:23 -0400 (Wed, 16 Oct 2024) EndedAt: 2024-10-16 16:25:08 -0400 (Wed, 16 Oct 2024) EllapsedTime: 44.8 seconds RetCode: 0 Status: OK