Package: SNAGEE Version: 1.44.0 Command: F:\biocbuild\bbs-3.19-bioc\R\bin\R.exe CMD INSTALL SNAGEE StartedAt: 2024-06-26 15:38:28 -0400 (Wed, 26 Jun 2024) EndedAt: 2024-06-26 15:38:44 -0400 (Wed, 26 Jun 2024) EllapsedTime: 16.0 seconds RetCode: 0 Status: OK