Package: SNAGEE Version: 1.44.0 Command: rm -rf SNAGEE.buildbin-libdir && mkdir SNAGEE.buildbin-libdir && E:\biocbuild\bbs-3.19-bioc\R\bin\R.exe CMD INSTALL --build --library=SNAGEE.buildbin-libdir SNAGEE_1.44.0.tar.gz StartedAt: 2024-10-17 08:40:45 -0400 (Thu, 17 Oct 2024) EndedAt: 2024-10-17 08:40:50 -0400 (Thu, 17 Oct 2024) EllapsedTime: 4.9 seconds RetCode: 0 Status: OK PackageFile: SNAGEE_1.44.0.zip PackageFileSize: 92.78 KiB