Package: SingleCellExperiment Version: 1.26.0 Command: /Library/Frameworks/R.framework/Resources/bin/R CMD INSTALL SingleCellExperiment StartedAt: 2024-10-16 15:58:03 -0400 (Wed, 16 Oct 2024) EndedAt: 2024-10-16 15:58:32 -0400 (Wed, 16 Oct 2024) EllapsedTime: 28.4 seconds RetCode: 0 Status: OK