Package: cBioPortalData Version: 2.16.0 Command: /Library/Frameworks/R.framework/Resources/bin/R CMD INSTALL cBioPortalData StartedAt: 2024-10-16 17:15:39 -0400 (Wed, 16 Oct 2024) EndedAt: 2024-10-16 17:16:30 -0400 (Wed, 16 Oct 2024) EllapsedTime: 50.7 seconds RetCode: 0 Status: OK