Package: dreamlet Version: 1.2.1 Command: E:\biocbuild\bbs-3.19-bioc\R\bin\R.exe CMD check --no-multiarch --install=check:dreamlet.install-out.txt --library=E:\biocbuild\bbs-3.19-bioc\R\library --no-vignettes --timings dreamlet_1.2.1.tar.gz StartedAt: 2024-10-17 01:03:17 -0400 (Thu, 17 Oct 2024) EndedAt: 2024-10-17 01:16:41 -0400 (Thu, 17 Oct 2024) EllapsedTime: 804.0 seconds RetCode: 0 Status: OK CheckDir: dreamlet.Rcheck Warnings: 0