Package: globalSeq Version: 1.32.0 Command: /Library/Frameworks/R.framework/Resources/bin/R CMD build --keep-empty-dirs --no-resave-data globalSeq StartedAt: 2024-10-16 19:38:39 -0400 (Wed, 16 Oct 2024) EndedAt: 2024-10-16 19:39:10 -0400 (Wed, 16 Oct 2024) EllapsedTime: 30.8 seconds RetCode: 0 Status: OK PackageFile: globalSeq_1.32.0.tar.gz PackageFileSize: 714.7 KiB