Package: iSeq Version: 1.56.0 Command: rm -rf iSeq.buildbin-libdir && mkdir iSeq.buildbin-libdir && E:\biocbuild\bbs-3.19-bioc\R\bin\R.exe CMD INSTALL --build --library=iSeq.buildbin-libdir iSeq_1.56.0.tar.gz StartedAt: 2024-10-17 08:00:55 -0400 (Thu, 17 Oct 2024) EndedAt: 2024-10-17 08:01:02 -0400 (Thu, 17 Oct 2024) EllapsedTime: 6.9 seconds RetCode: 0 Status: OK PackageFile: iSeq_1.56.0.zip PackageFileSize: 1.424 MiB