Package: iterClust Version: 1.26.0 Command: chmod a+r iterClust -R && E:\biocbuild\bbs-3.19-bioc\R\bin\R.exe CMD build --keep-empty-dirs --no-resave-data iterClust StartedAt: 2024-10-16 19:55:59 -0400 (Wed, 16 Oct 2024) EndedAt: 2024-10-16 19:56:46 -0400 (Wed, 16 Oct 2024) EllapsedTime: 46.7 seconds RetCode: 0 Status: OK PackageFile: iterClust_1.26.0.tar.gz PackageFileSize: 116.4 KiB