Package: mixOmics Version: 6.28.0 Command: rm -rf mixOmics.buildbin-libdir && mkdir mixOmics.buildbin-libdir && /Users/biocbuild/BBS/utils/build-universal.sh mixOmics_6.28.0.tar.gz /Library/Frameworks/R.framework/Resources/bin/R mixOmics.buildbin-libdir StartedAt: 2024-10-17 16:37:07 -0400 (Thu, 17 Oct 2024) EndedAt: 2024-10-17 16:38:49 -0400 (Thu, 17 Oct 2024) EllapsedTime: 101.6 seconds RetCode: 0 Status: OK PackageFile: mixOmics_6.28.0.tgz PackageFileSize: 19.45 MiB