Package: multtest Version: 2.60.0 Command: E:\biocbuild\bbs-3.19-bioc\R\bin\R.exe CMD check --no-multiarch --install=check:multtest.install-out.txt --library=E:\biocbuild\bbs-3.19-bioc\R\library --no-vignettes --timings multtest_2.60.0.tar.gz StartedAt: 2024-10-17 03:49:46 -0400 (Thu, 17 Oct 2024) EndedAt: 2024-10-17 03:51:27 -0400 (Thu, 17 Oct 2024) EllapsedTime: 101.2 seconds RetCode: 0 Status: WARNINGS CheckDir: multtest.Rcheck Warnings: 2