Package: pathifier Version: 1.42.0 Command: /Library/Frameworks/R.framework/Resources/bin/R CMD check --install=check:pathifier.install-out.txt --library=/Library/Frameworks/R.framework/Resources/library --no-vignettes --timings pathifier_1.42.0.tar.gz StartedAt: 2024-10-18 07:01:34 -0400 (Fri, 18 Oct 2024) EndedAt: 2024-10-18 07:02:26 -0400 (Fri, 18 Oct 2024) EllapsedTime: 51.5 seconds RetCode: 0 Status: OK CheckDir: pathifier.Rcheck Warnings: 0