Package: rTRMui Version: 1.42.0 Command: /Library/Frameworks/R.framework/Resources/bin/R CMD check --install=check:rTRMui.install-out.txt --library=/Library/Frameworks/R.framework/Resources/library --no-vignettes --timings rTRMui_1.42.0.tar.gz StartedAt: 2024-06-09 22:45:47 -0400 (Sun, 09 Jun 2024) EndedAt: 2024-06-09 22:51:02 -0400 (Sun, 09 Jun 2024) EllapsedTime: 314.7 seconds RetCode: 0 Status: OK CheckDir: rTRMui.Rcheck Warnings: 0