Package: sampleClassifier Version: 1.28.0 Command: /home/biocbuild/bbs-3.19-bioc/R/bin/R CMD build --keep-empty-dirs --no-resave-data sampleClassifier StartedAt: 2024-10-16 20:35:53 -0400 (Wed, 16 Oct 2024) EndedAt: 2024-10-16 20:38:09 -0400 (Wed, 16 Oct 2024) EllapsedTime: 136.3 seconds RetCode: 0 Status: OK PackageFile: sampleClassifier_1.28.0.tar.gz PackageFileSize: 237.7 KiB