Package: sampleClassifier Version: 1.28.0 Command: /home/biocbuild/bbs-3.19-bioc/R/bin/R CMD check --install=check:sampleClassifier.install-out.txt --library=/home/biocbuild/bbs-3.19-bioc/R/site-library --timings sampleClassifier_1.28.0.tar.gz StartedAt: 2024-10-17 04:40:02 -0400 (Thu, 17 Oct 2024) EndedAt: 2024-10-17 04:45:54 -0400 (Thu, 17 Oct 2024) EllapsedTime: 352.8 seconds RetCode: 0 Status: OK CheckDir: sampleClassifier.Rcheck Warnings: 0