Package: scPCA Version: 1.18.0 Command: /Library/Frameworks/R.framework/Resources/bin/R CMD check --install=check:scPCA.install-out.txt --library=/Library/Frameworks/R.framework/Resources/library --no-vignettes --timings scPCA_1.18.0.tar.gz StartedAt: 2024-10-17 12:47:04 -0400 (Thu, 17 Oct 2024) EndedAt: 2024-10-17 12:55:16 -0400 (Thu, 17 Oct 2024) EllapsedTime: 491.9 seconds RetCode: 0 Status: OK CheckDir: scPCA.Rcheck Warnings: 0