Package: tomoda Version: 1.14.0 Maintainer: Wendao Liu MaintainerEmail: liuwd15 at tsinghua.org.cn git_url: https://git.bioconductor.org/packages/tomoda git_branch: RELEASE_3_19 git_last_commit: d42fc1b git_last_commit_date: 2024-04-30 11:27:51 -0400 (Tue, 30 Apr 2024)