Package: tomoda Version: 1.14.0 Command: /Library/Frameworks/R.framework/Resources/bin/R CMD check --install=check:tomoda.install-out.txt --library=/Library/Frameworks/R.framework/Resources/library --no-vignettes --timings tomoda_1.14.0.tar.gz StartedAt: 2024-06-09 23:35:23 -0400 (Sun, 09 Jun 2024) EndedAt: 2024-06-09 23:41:54 -0400 (Sun, 09 Jun 2024) EllapsedTime: 391.2 seconds RetCode: 0 Status: OK CheckDir: tomoda.Rcheck Warnings: 0