Back to Mac ARM64 build report for BioC 3.19 |
|
This page was generated on 2024-05-07 11:32:27 -0400 (Tue, 07 May 2024).
Hostname | OS | Arch (*) | R version | Installed pkgs |
---|---|---|---|---|
kjohnson3 | macOS 13.6.5 Ventura | arm64 | 4.4.0 (2024-04-24) -- "Puppy Cup" | 4461 |
Click on any hostname to see more info about the system (e.g. compilers) (*) as reported by 'uname -p', except on Windows and Mac OS X |
To the developers/maintainers of the scuttle package: - Use the following Renviron settings to reproduce errors and warnings. - If 'R CMD check' started to fail recently on the Linux builder(s) over a missing dependency, add the missing dependency to 'Suggests:' in your DESCRIPTION file. See Renviron.bioc for more information. |
Package 1927/2300 | Hostname | OS / Arch | INSTALL | BUILD | CHECK | BUILD BIN | ||||||||
scuttle 1.14.0 (landing page) Aaron Lun
| kjohnson3 | macOS 13.6.5 Ventura / arm64 | OK | OK | OK | OK | ||||||||
QUICK STATS | OS / Arch | INSTALL | BUILD | CHECK | BUILD BIN | |||||||||||||||||
kjohnson3 | macOS 13.6.5 Ventura / arm64 |
|
|
|
| |||||||||||||||||
Package 1/19 | Hostname | OS / Arch | INSTALL | BUILD | CHECK | BUILD BIN | ||||||||||||||||
BASiCS 2.16.0 (landing page) Catalina Vallejos
| kjohnson3 | macOS 13.6.5 Ventura / arm64 | OK | OK | WARNINGS | OK | ||||||||||||||||
Package 2/19 | Hostname | OS / Arch | INSTALL | BUILD | CHECK | BUILD BIN | ||||||||||||||||
BASiCStan 1.6.0 (landing page) Alan O'Callaghan
| kjohnson3 | macOS 13.6.5 Ventura / arm64 | OK | OK | OK | OK | ||||||||||||||||
Package 3/19 | Hostname | OS / Arch | INSTALL | BUILD | CHECK | BUILD BIN | ||||||||||||||||
batchelor 1.20.0 (landing page) Aaron Lun
| kjohnson3 | macOS 13.6.5 Ventura / arm64 | OK | OK | OK | OK | ||||||||||||||||
Package 4/19 | Hostname | OS / Arch | INSTALL | BUILD | CHECK | BUILD BIN | ||||||||||||||||
DropletUtils 1.24.0 (landing page) Jonathan Griffiths
| kjohnson3 | macOS 13.6.5 Ventura / arm64 | OK | OK | WARNINGS | OK | ||||||||||||||||
Package 5/19 | Hostname | OS / Arch | INSTALL | BUILD | CHECK | BUILD BIN | ||||||||||||||||
epiregulon 1.0.0 (landing page) Xiaosai Yao
| kjohnson3 | macOS 13.6.5 Ventura / arm64 | OK | OK | OK | OK | ||||||||||||||||
Package 6/19 | Hostname | OS / Arch | INSTALL | BUILD | CHECK | BUILD BIN | ||||||||||||||||
FLAMES 1.10.0 (landing page) Changqing Wang
| kjohnson3 | macOS 13.6.5 Ventura / arm64 | ERROR | ERROR | skipped | skipped | ||||||||||||||||
Package 7/19 | Hostname | OS / Arch | INSTALL | BUILD | CHECK | BUILD BIN | ||||||||||||||||
imcRtools 1.10.0 (landing page) Daniel Schulz
| kjohnson3 | macOS 13.6.5 Ventura / arm64 | OK | OK | ERROR | OK | ||||||||||||||||
Package 8/19 | Hostname | OS / Arch | INSTALL | BUILD | CHECK | BUILD BIN | ||||||||||||||||
mia 1.12.0 (landing page) Tuomas Borman
| kjohnson3 | macOS 13.6.5 Ventura / arm64 | OK | OK | OK | OK | ||||||||||||||||
Package 9/19 | Hostname | OS / Arch | INSTALL | BUILD | CHECK | BUILD BIN | ||||||||||||||||
mumosa 1.12.0 (landing page) Aaron Lun
| kjohnson3 | macOS 13.6.5 Ventura / arm64 | OK | OK | OK | OK | ||||||||||||||||
Package 10/19 | Hostname | OS / Arch | INSTALL | BUILD | CHECK | BUILD BIN | ||||||||||||||||
muscat 1.18.0 (landing page) Helena L. Crowell
| kjohnson3 | macOS 13.6.5 Ventura / arm64 | OK | ERROR | skipped | skipped | ||||||||||||||||
Package 11/19 | Hostname | OS / Arch | INSTALL | BUILD | CHECK | BUILD BIN | ||||||||||||||||
scater 1.32.0 (landing page) Alan O'Callaghan
| kjohnson3 | macOS 13.6.5 Ventura / arm64 | OK | OK | ERROR | OK | ||||||||||||||||
Package 12/19 | Hostname | OS / Arch | INSTALL | BUILD | CHECK | BUILD BIN | ||||||||||||||||
scDblFinder 1.18.0 (landing page) Pierre-Luc Germain
| kjohnson3 | macOS 13.6.5 Ventura / arm64 | OK | OK | OK | OK | ||||||||||||||||
Package 13/19 | Hostname | OS / Arch | INSTALL | BUILD | CHECK | BUILD BIN | ||||||||||||||||
scran 1.32.0 (landing page) Aaron Lun
| kjohnson3 | macOS 13.6.5 Ventura / arm64 | OK | OK | WARNINGS | OK | ||||||||||||||||
Package 14/19 | Hostname | OS / Arch | INSTALL | BUILD | CHECK | BUILD BIN | ||||||||||||||||
simPIC 1.0.0 (landing page) Sagrika Chugh
| kjohnson3 | macOS 13.6.5 Ventura / arm64 | OK | OK | OK | OK | ||||||||||||||||
Package 15/19 | Hostname | OS / Arch | INSTALL | BUILD | CHECK | BUILD BIN | ||||||||||||||||
singleCellTK 2.14.0 (landing page) Joshua David Campbell
| kjohnson3 | macOS 13.6.5 Ventura / arm64 | OK | OK | OK | OK | ||||||||||||||||
Package 16/19 | Hostname | OS / Arch | INSTALL | BUILD | CHECK | BUILD BIN | ||||||||||||||||
spatialHeatmap 2.10.0 (landing page) Jianhai Zhang
| kjohnson3 | macOS 13.6.5 Ventura / arm64 | OK | OK | OK | OK | ||||||||||||||||
Package 17/19 | Hostname | OS / Arch | INSTALL | BUILD | CHECK | BUILD BIN | ||||||||||||||||
splatter 1.28.0 (landing page) Luke Zappia
| kjohnson3 | macOS 13.6.5 Ventura / arm64 | OK | OK | OK | OK | ||||||||||||||||
Package 18/19 | Hostname | OS / Arch | INSTALL | BUILD | CHECK | BUILD BIN | ||||||||||||||||
spoon 1.0.0 (landing page) Kinnary Shah
| kjohnson3 | macOS 13.6.5 Ventura / arm64 | OK | ERROR | skipped | skipped | ||||||||||||||||
Package 19/19 | Hostname | OS / Arch | INSTALL | BUILD | CHECK | BUILD BIN | ||||||||||||||||
velociraptor 1.14.0 (landing page) Kevin Rue-Albrecht
| kjohnson3 | macOS 13.6.5 Ventura / arm64 | OK | ERROR | skipped | skipped | ||||||||||||||||