This page was generated on 2024-10-16 08:30 -0400 (Wed, 16 Oct 2024).
| |
| See this page for all the Bioconductor builds and their schedule. |
| Hostname | OS | Arch (*) | R version | Installed pkgs |
|---|---|---|---|---|
| nebbiolo1 | Linux (Ubuntu 22.04.3 LTS) | x86_64 | 4.4.1 (2024-06-14) -- "Race for Your Life" | 4763 |
| Click on any hostname to see more info about the system (e.g. compilers) (*) as reported by 'uname -p', except on Windows and Mac OS X | ||||
A | |||||||||
| QUICK STATS | OS / Arch | INSTALL | BUILD | CHECK | |||||||||||||||||||||||||||||||
| nebbiolo1 | Linux (Ubuntu 22.04.3 LTS) / x86_64 |
|
|
| |||||||||||||||||||||||||||||||
|
| ||||||||||||||||||||||||||||||||||
| Package | Maintainer | INSTALL | BUILD | CHECK | |||||||||||||||||||||||||||||||
| 1/46 | AHCytoBands 0.99.1 (landing page) | Michael Lawrence | OK | OK | OK | ||||||||||||||||||||||||||||||
| 2/46 | AHEnsDbs 1.5.1 (landing page) | Johannes Rainer | OK | OK | OK | ||||||||||||||||||||||||||||||
| 3/46 | AHLRBaseDbs 1.8.0 (landing page) | Koki Tsuyuzaki | OK | OK | OK | ||||||||||||||||||||||||||||||
| 4/46 | AHMeSHDbs 1.8.0 (landing page) | Koki Tsuyuzaki | OK | OK | OK | ||||||||||||||||||||||||||||||
| 5/46 | AHPathbankDbs 0.99.5 (landing page) | Kozo Nishida | OK | OK | OK | ||||||||||||||||||||||||||||||
| 6/46 | AHPubMedDbs 1.8.0 (landing page) | Koki Tsuyuzaki | OK | OK | OK | ||||||||||||||||||||||||||||||
| 7/46 | AHWikipathwaysDbs 0.99.4 (landing page) | Kozo Nishida | OK | OK | OK | ||||||||||||||||||||||||||||||
| 8/46 | AlphaMissense.v2023.hg19 3.18.2 (landing page) | Robert Castelo | OK | OK | OK | ||||||||||||||||||||||||||||||
| 9/46 | AlphaMissense.v2023.hg38 3.18.2 (landing page) | Robert Castelo | OK | OK | OK | ||||||||||||||||||||||||||||||
| 10/46 | alternativeSplicingEvents.hg19 1.1.0 (landing page) | Nuno Agostinho | OK | OK | OK | ||||||||||||||||||||||||||||||
| 11/46 | alternativeSplicingEvents.hg38 1.1.0 (landing page) | Nuno Agostinho | OK | OK | OK | ||||||||||||||||||||||||||||||
|
| ||||||||||||||||||||||||||||||||||
| Package | Maintainer | INSTALL | BUILD | CHECK | |||||||||||||||||||||||||||||||
| 12/46 | BioMartGOGeneSets 0.99.11 (landing page) | Zuguang Gu | OK | OK | ERROR | ||||||||||||||||||||||||||||||
|
| ||||||||||||||||||||||||||||||||||
| Package | Maintainer | INSTALL | BUILD | CHECK | |||||||||||||||||||||||||||||||
| 13/46 | cadd.v1.6.hg19 3.18.1 (landing page) | Robert Castelo | OK | OK | OK | ||||||||||||||||||||||||||||||
| 14/46 | cadd.v1.6.hg38 3.18.1 (landing page) | Robert Castelo | OK | OK | OK | ||||||||||||||||||||||||||||||
| 15/46 | chromhmmData 0.99.2 (landing page) | Mahmoud Ahmed | OK | OK | OK | ||||||||||||||||||||||||||||||
| 16/46 | CTCF 0.99.11 (landing page) | Mikhail Dozmorov | OK | OK | OK | ||||||||||||||||||||||||||||||
|
| ||||||||||||||||||||||||||||||||||
| Package | Maintainer | INSTALL | BUILD | CHECK | |||||||||||||||||||||||||||||||
| 17/46 | ENCODExplorerData 0.99.5 (landing page) | Eric Fournier | OK | OK | OK | ||||||||||||||||||||||||||||||
| 18/46 | EPICv2manifest 0.99.7 (landing page) | Tim Peters | OK | OK | OK | ||||||||||||||||||||||||||||||
| 19/46 | EpiTxDb.Hs.hg38 0.99.7 (landing page) | Felix G.M. Ernst | OK | OK | OK | ||||||||||||||||||||||||||||||
| 20/46 | EpiTxDb.Mm.mm10 0.99.6 (landing page) | Felix G.M. Ernst | OK | OK | OK | ||||||||||||||||||||||||||||||
| 21/46 | EpiTxDb.Sc.sacCer3 0.99.5 (landing page) | Felix G.M. Ernst | OK | OK | OK | ||||||||||||||||||||||||||||||
| 22/46 | EuPathDB 1.0.1 (landing page) | Keith Hughitt | OK | ERROR | skipped | ||||||||||||||||||||||||||||||
| 23/46 | excluderanges 0.99.8 (landing page) | Mikhail Dozmorov | OK | ERROR | skipped | ||||||||||||||||||||||||||||||
|
| ||||||||||||||||||||||||||||||||||
| Package | Maintainer | INSTALL | BUILD | CHECK | |||||||||||||||||||||||||||||||
| 24/46 | geneplast.data 0.99.9 (landing page) | Leonardo Campos | OK | OK | OK | ||||||||||||||||||||||||||||||
| 25/46 | GeneSummary 0.99.6 (landing page) | Zuguang Gu | OK | OK | OK | ||||||||||||||||||||||||||||||
| 26/46 | GenomicState 0.99.15 (landing page) | Leonardo Collado-Torres | OK | OK | ERROR | ||||||||||||||||||||||||||||||
| 27/46 | gwascatData 0.99.6 (landing page) | Sara Stankiewicz | OK | OK | ERROR | ||||||||||||||||||||||||||||||
|
| ||||||||||||||||||||||||||||||||||
| Package | Maintainer | INSTALL | BUILD | CHECK | |||||||||||||||||||||||||||||||
| 28/46 | hpAnnot 1.1.0 (landing page) | Marta R. Hidalgo | OK | OK | ERROR | ||||||||||||||||||||||||||||||
| 29/46 | HPO.db 0.99.2 (landing page) | Erqiang Hu | OK | OK | OK | ||||||||||||||||||||||||||||||
|
| ||||||||||||||||||||||||||||||||||
| Package | Maintainer | INSTALL | BUILD | CHECK | |||||||||||||||||||||||||||||||
| 30/46 | JASPAR2020 0.99.8 (landing page) | Damir Baranasic | OK | OK | ERROR | ||||||||||||||||||||||||||||||
| 31/46 | JASPAR2022 0.99.8 (landing page) | Damir Baranasic | OK | OK | OK | ||||||||||||||||||||||||||||||
| 32/46 | JASPAR2024 0.99.6 (landing page) | Damir Baranasic | OK | OK | OK | ||||||||||||||||||||||||||||||
|
| ||||||||||||||||||||||||||||||||||
| Package | Maintainer | INSTALL | BUILD | CHECK | |||||||||||||||||||||||||||||||
| 33/46 | metaboliteIDmapping 0.99.10 (landing page) | Sebastian Canzler | OK | OK | ERROR | ||||||||||||||||||||||||||||||
| 34/46 | MPO.db 0.99.7 (landing page) | Erqiang Hu | OK | OK | OK | ||||||||||||||||||||||||||||||
|
| ||||||||||||||||||||||||||||||||||
| Package | Maintainer | INSTALL | BUILD | CHECK | |||||||||||||||||||||||||||||||
| 35/46 | ontoProcData 0.99.9904 (landing page) | Sara Stankiewicz | OK | OK | ERROR | ||||||||||||||||||||||||||||||
| 36/46 | org.Mxanthus.db 1.0.27 (landing page) | Eduardo Illueca Fernández | OK | OK | WARNINGS | ||||||||||||||||||||||||||||||
|
| ||||||||||||||||||||||||||||||||||
| Package | Maintainer | INSTALL | BUILD | CHECK | |||||||||||||||||||||||||||||||
| 37/46 | PANTHER.db 1.0.12 (landing page) | Julius Muller | OK | OK | OK | ||||||||||||||||||||||||||||||
| 38/46 | phastCons30way.UCSC.hg38 3.13.0 (landing page) | Robert Castelo | OK | OK | ERROR | ||||||||||||||||||||||||||||||
|
| ||||||||||||||||||||||||||||||||||
| Package | Maintainer | INSTALL | BUILD | CHECK | |||||||||||||||||||||||||||||||
| 39/46 | rat2302frmavecs 0.99.11 (landing page) | Sylvain Gubian | OK | OK | OK | ||||||||||||||||||||||||||||||
| 40/46 | rGenomeTracksData 0.99.0 (landing page) | Omar Elashkar | OK | OK | OK | ||||||||||||||||||||||||||||||
|
| ||||||||||||||||||||||||||||||||||
| Package | Maintainer | INSTALL | BUILD | CHECK | |||||||||||||||||||||||||||||||
| 41/46 | scAnnotatR.models 0.99.10 (landing page) | Johannes Griss | OK | ERROR | skipped | ||||||||||||||||||||||||||||||
| 42/46 | SomaScan.db 0.99.10 (landing page) | Amanda Hiser | OK | OK | OK | ||||||||||||||||||||||||||||||
| 43/46 | synaptome.data 0.99.6 (landing page) | Oksana Sorokina | OK | OK | OK | ||||||||||||||||||||||||||||||
| 44/46 | synaptome.db 0.99.16 (landing page) | Oksana Sorokina | OK | OK | WARNINGS | ||||||||||||||||||||||||||||||
|
| ||||||||||||||||||||||||||||||||||
| Package | Maintainer | INSTALL | BUILD | CHECK | |||||||||||||||||||||||||||||||
| 45/46 | UCSCRepeatMasker 3.17.3 (landing page) | Robert Castelo | OK | OK | ERROR | ||||||||||||||||||||||||||||||
| 46/46 | UniProtKeywords 0.99.7 (landing page) | Zuguang Gu | OK | OK | OK | ||||||||||||||||||||||||||||||