Package: NetActivityData Version: 1.6.0 Command: /home/biocbuild/bbs-3.19-bioc/R/bin/R CMD build --keep-empty-dirs --no-resave-data NetActivityData StartedAt: 2024-10-17 10:43:08 -0400 (Thu, 17 Oct 2024) EndedAt: 2024-10-17 10:43:22 -0400 (Thu, 17 Oct 2024) EllapsedTime: 14.0 seconds RetCode: 0 Status: OK PackageFile: NetActivityData_1.6.0.tar.gz PackageFileSize: 5.269 MiB