Package: ALL Version: 1.48.0 Command: /home/biocbuild/bbs-3.20-bioc/R/bin/R CMD build --keep-empty-dirs --no-resave-data ALL StartedAt: 2025-04-01 11:05:48 -0400 (Tue, 01 Apr 2025) EndedAt: 2025-04-01 11:06:04 -0400 (Tue, 01 Apr 2025) EllapsedTime: 15.3 seconds RetCode: 0 Status: OK PackageFile: ALL_1.48.0.tar.gz PackageFileSize: 10.93 MiB