Package: ALLMLL Version: 1.46.0 Command: /home/biocbuild/bbs-3.20-bioc/R/bin/R CMD INSTALL ALLMLL StartedAt: 2025-04-01 10:56:20 -0400 (Tue, 01 Apr 2025) EndedAt: 2025-04-01 10:56:26 -0400 (Tue, 01 Apr 2025) EllapsedTime: 5.8 seconds RetCode: 0 Status: OK