Package: AssessORFData Version: 1.24.0 Command: /home/biocbuild/bbs-3.20-bioc/R/bin/R CMD build --keep-empty-dirs --no-resave-data AssessORFData StartedAt: 2025-04-01 11:05:59 -0400 (Tue, 01 Apr 2025) EndedAt: 2025-04-01 11:07:34 -0400 (Tue, 01 Apr 2025) EllapsedTime: 94.7 seconds RetCode: 0 Status: OK PackageFile: AssessORFData_1.24.0.tar.gz PackageFileSize: 144.6 MiB