Package: AssessORFData Version: 1.24.0 Command: /home/biocbuild/bbs-3.20-bioc/R/bin/R CMD INSTALL AssessORFData StartedAt: 2025-04-01 10:56:36 -0400 (Tue, 01 Apr 2025) EndedAt: 2025-04-01 10:57:21 -0400 (Tue, 01 Apr 2025) EllapsedTime: 44.4 seconds RetCode: 0 Status: OK