Package: BeadSorted.Saliva.EPIC Version: 1.14.0 Command: /home/biocbuild/bbs-3.20-bioc/R/bin/R CMD build --keep-empty-dirs --no-resave-data BeadSorted.Saliva.EPIC StartedAt: 2025-04-01 11:06:06 -0400 (Tue, 01 Apr 2025) EndedAt: 2025-04-01 11:06:54 -0400 (Tue, 01 Apr 2025) EllapsedTime: 47.4 seconds RetCode: 0 Status: OK PackageFile: BeadSorted.Saliva.EPIC_1.14.0.tar.gz PackageFileSize: 13.47 KiB