Package: CCl4 Version: 1.44.0 Command: /home/biocbuild/bbs-3.20-bioc/R/bin/R CMD build --keep-empty-dirs --no-resave-data CCl4 StartedAt: 2025-04-01 11:07:11 -0400 (Tue, 01 Apr 2025) EndedAt: 2025-04-01 11:08:10 -0400 (Tue, 01 Apr 2025) EllapsedTime: 59.2 seconds RetCode: 0 Status: OK PackageFile: CCl4_1.44.0.tar.gz PackageFileSize: 110.3 MiB