Package: CLLmethylation Version: 1.26.0 Command: /home/biocbuild/bbs-3.20-bioc/R/bin/R CMD INSTALL CLLmethylation StartedAt: 2025-04-01 11:00:30 -0400 (Tue, 01 Apr 2025) EndedAt: 2025-04-01 11:00:47 -0400 (Tue, 01 Apr 2025) EllapsedTime: 16.5 seconds RetCode: 0 Status: OK