Package: CONFESSdata Version: 1.34.0 Command: /home/biocbuild/bbs-3.20-bioc/R/bin/R CMD INSTALL CONFESSdata StartedAt: 2025-04-01 10:55:32 -0400 (Tue, 01 Apr 2025) EndedAt: 2025-04-01 10:55:34 -0400 (Tue, 01 Apr 2025) EllapsedTime: 1.5 seconds RetCode: 0 Status: OK