Package: ConnectivityMap Version: 1.42.0 Command: /home/biocbuild/bbs-3.20-bioc/R/bin/R CMD build --keep-empty-dirs --no-resave-data ConnectivityMap StartedAt: 2025-04-01 11:09:27 -0400 (Tue, 01 Apr 2025) EndedAt: 2025-04-01 11:09:42 -0400 (Tue, 01 Apr 2025) EllapsedTime: 14.9 seconds RetCode: 0 Status: OK PackageFile: ConnectivityMap_1.42.0.tar.gz PackageFileSize: 236.7 MiB