Package: CytoMethIC Version: 1.2.0 Command: /home/biocbuild/bbs-3.20-bioc/R/bin/R CMD INSTALL CytoMethIC StartedAt: 2025-04-01 11:04:53 -0400 (Tue, 01 Apr 2025) EndedAt: 2025-04-01 11:05:19 -0400 (Tue, 01 Apr 2025) EllapsedTime: 26.0 seconds RetCode: 0 Status: OK