Package: DAPARdata Version: 1.36.0 Command: /home/biocbuild/bbs-3.20-bioc/R/bin/R CMD build --keep-empty-dirs --no-resave-data DAPARdata StartedAt: 2025-04-01 11:11:50 -0400 (Tue, 01 Apr 2025) EndedAt: 2025-04-01 11:12:29 -0400 (Tue, 01 Apr 2025) EllapsedTime: 39.0 seconds RetCode: 0 Status: OK PackageFile: DAPARdata_1.36.0.tar.gz PackageFileSize: 29.04 MiB