Package: DAPARdata Version: 1.36.0 Command: /home/biocbuild/bbs-3.20-bioc/R/bin/R CMD INSTALL DAPARdata StartedAt: 2025-04-01 11:01:14 -0400 (Tue, 01 Apr 2025) EndedAt: 2025-04-01 11:01:45 -0400 (Tue, 01 Apr 2025) EllapsedTime: 31.0 seconds RetCode: 0 Status: OK