Package: DExMAdata Version: 1.14.0 Command: /home/biocbuild/bbs-3.20-bioc/R/bin/R CMD build --keep-empty-dirs --no-resave-data DExMAdata StartedAt: 2025-04-01 11:13:00 -0400 (Tue, 01 Apr 2025) EndedAt: 2025-04-01 11:14:04 -0400 (Tue, 01 Apr 2025) EllapsedTime: 64.0 seconds RetCode: 0 Status: OK PackageFile: DExMAdata_1.14.0.tar.gz PackageFileSize: 7.389 MiB