Package: DExMAdata Version: 1.14.0 Command: /home/biocbuild/bbs-3.20-bioc/R/bin/R CMD INSTALL DExMAdata StartedAt: 2025-04-01 10:56:08 -0400 (Tue, 01 Apr 2025) EndedAt: 2025-04-01 10:57:03 -0400 (Tue, 01 Apr 2025) EllapsedTime: 54.7 seconds RetCode: 0 Status: OK