Package: DeSousa2013 Version: 1.42.0 Command: /home/biocbuild/bbs-3.20-bioc/R/bin/R CMD build --keep-empty-dirs --no-resave-data DeSousa2013 StartedAt: 2025-04-01 11:12:50 -0400 (Tue, 01 Apr 2025) EndedAt: 2025-04-01 11:13:37 -0400 (Tue, 01 Apr 2025) EllapsedTime: 47.5 seconds RetCode: 0 Status: OK PackageFile: DeSousa2013_1.42.0.tar.gz PackageFileSize: 44.76 MiB