Package: DeSousa2013 Version: 1.42.0 Command: /home/biocbuild/bbs-3.20-bioc/R/bin/R CMD INSTALL DeSousa2013 StartedAt: 2025-04-01 11:01:16 -0400 (Tue, 01 Apr 2025) EndedAt: 2025-04-01 11:01:48 -0400 (Tue, 01 Apr 2025) EllapsedTime: 32.7 seconds RetCode: 0 Status: OK