Package: EatonEtAlChIPseq Version: 0.44.0 Command: /home/biocbuild/bbs-3.20-bioc/R/bin/R CMD build --keep-empty-dirs --no-resave-data EatonEtAlChIPseq StartedAt: 2025-04-01 11:14:06 -0400 (Tue, 01 Apr 2025) EndedAt: 2025-04-01 11:14:08 -0400 (Tue, 01 Apr 2025) EllapsedTime: 2.0 seconds RetCode: 0 Status: OK PackageFile: EatonEtAlChIPseq_0.44.0.tar.gz PackageFileSize: 20.5 MiB