Package: FieldEffectCrc Version: 1.16.0 Command: /home/biocbuild/bbs-3.20-bioc/R/bin/R CMD INSTALL FieldEffectCrc StartedAt: 2025-04-01 11:00:56 -0400 (Tue, 01 Apr 2025) EndedAt: 2025-04-01 11:01:24 -0400 (Tue, 01 Apr 2025) EllapsedTime: 28.3 seconds RetCode: 0 Status: OK