Package: FlowSorted.Blood.450k Version: 1.44.0 Command: /home/biocbuild/bbs-3.20-bioc/R/bin/R CMD build --keep-empty-dirs --no-resave-data FlowSorted.Blood.450k StartedAt: 2025-04-01 11:15:46 -0400 (Tue, 01 Apr 2025) EndedAt: 2025-04-01 11:17:08 -0400 (Tue, 01 Apr 2025) EllapsedTime: 82.2 seconds RetCode: 0 Status: OK PackageFile: FlowSorted.Blood.450k_1.44.0.tar.gz PackageFileSize: 167.8 MiB