Package: FlowSorted.Blood.450k Version: 1.44.0 Command: /home/biocbuild/bbs-3.20-bioc/R/bin/R CMD INSTALL FlowSorted.Blood.450k StartedAt: 2025-04-01 11:02:26 -0400 (Tue, 01 Apr 2025) EndedAt: 2025-04-01 11:03:39 -0400 (Tue, 01 Apr 2025) EllapsedTime: 72.8 seconds RetCode: 0 Status: OK