Package: FlowSorted.Blood.EPIC Version: 2.10.0 Command: /home/biocbuild/bbs-3.20-bioc/R/bin/R CMD check --install=check:FlowSorted.Blood.EPIC.install-out.txt --library=/home/biocbuild/bbs-3.20-bioc/R/site-library --timings FlowSorted.Blood.EPIC_2.10.0.tar.gz StartedAt: 2025-04-01 12:01:00 -0400 (Tue, 01 Apr 2025) EndedAt: 2025-04-01 12:19:26 -0400 (Tue, 01 Apr 2025) EllapsedTime: 1106.3 seconds RetCode: 0 Status: OK CheckDir: FlowSorted.Blood.EPIC.Rcheck Warnings: 0