Package: GSE13015 Version: 1.14.0 Command: /home/biocbuild/bbs-3.20-bioc/R/bin/R CMD build --keep-empty-dirs --no-resave-data GSE13015 StartedAt: 2025-04-01 11:18:21 -0400 (Tue, 01 Apr 2025) EndedAt: 2025-04-01 11:18:51 -0400 (Tue, 01 Apr 2025) EllapsedTime: 29.9 seconds RetCode: 0 Status: OK PackageFile: GSE13015_1.14.0.tar.gz PackageFileSize: 218.4 KiB