Package: GenomicDistributionsData Version: 1.14.0 Command: /home/biocbuild/bbs-3.20-bioc/R/bin/R CMD INSTALL GenomicDistributionsData StartedAt: 2025-04-01 11:01:46 -0400 (Tue, 01 Apr 2025) EndedAt: 2025-04-01 11:02:21 -0400 (Tue, 01 Apr 2025) EllapsedTime: 34.9 seconds RetCode: 0 Status: OK