Package: GeuvadisTranscriptExpr Version: 1.34.0 Command: /home/biocbuild/bbs-3.20-bioc/R/bin/R CMD check --install=check:GeuvadisTranscriptExpr.install-out.txt --library=/home/biocbuild/bbs-3.20-bioc/R/site-library --timings GeuvadisTranscriptExpr_1.34.0.tar.gz StartedAt: 2025-04-01 12:04:09 -0400 (Tue, 01 Apr 2025) EndedAt: 2025-04-01 12:05:18 -0400 (Tue, 01 Apr 2025) EllapsedTime: 68.9 seconds RetCode: 0 Status: OK CheckDir: GeuvadisTranscriptExpr.Rcheck Warnings: 0