Package: HD2013SGI Version: 1.46.0 Command: /home/biocbuild/bbs-3.20-bioc/R/bin/R CMD INSTALL HD2013SGI StartedAt: 2025-04-01 10:57:41 -0400 (Tue, 01 Apr 2025) EndedAt: 2025-04-01 10:57:56 -0400 (Tue, 01 Apr 2025) EllapsedTime: 15.5 seconds RetCode: 0 Status: OK